View In:
ArcGIS JavaScript
ArcGIS Online Map Viewer
ArcGIS Earth
Service Description: prognosedaten_grad_3857
Name: prognosedaten_grad_3857
Description:
Single Fused Map Cache: false
Extent:
XMin: 1683109.291122794
YMin: 5921714.579675495
XMax: 1752930.644937636
YMax: 5987932.250712797
Spatial Reference: 102100
(3857)
LatestVCSWkid(0)
Initial Extent:
XMin: 1683109.291122794
YMin: 5921714.579675495
XMax: 1752930.644937636
YMax: 5987932.250712797
Spatial Reference: 102100
(3857)
LatestVCSWkid(0)
Full Extent:
XMin: 1683109.291122794
YMin: 5921714.579675495
XMax: 1752930.644937636
YMax: 5987932.250712797
Spatial Reference: 102100
(3857)
LatestVCSWkid(0)
Time Info:
Start Time Field: StdTime
End Time Field: StdTime
Time Extent:
[2025/04/28 00:00:00 UTC, 2025/04/29 06:00:00 UTC]
Time Reference:
N/A
Pixel Size X: 50.05114968805891
Pixel Size Y: 50.051149688059226
Band Count: 1
Pixel Type: F32
RasterFunction Infos: {"rasterFunctionInfos": [{
"name": "None",
"description": "",
"help": ""
}]}
Mensuration Capabilities: Basic
Inspection Capabilities:
Has Histograms: true
Has Colormap: false
Has Multi Dimensions : true
Rendering Rule:
Min Scale: 0
Max Scale: 0
Copyright Text:
Service Data Type: esriImageServiceDataTypeScientific
Min Values: -0.7255558371543884
Max Values: 21.20744514465332
Mean Values: 10.740316994134185
Standard Deviation Values: 4.437523820451517
Object ID Field:
Fields:
None
Default Mosaic Method: Center
Allowed Mosaic Methods:
SortField:
SortValue: null
Mosaic Operator: First
Default Compression Quality: 75
Default Resampling Method: Bilinear
Max Record Count: null
Max Image Height: 4100
Max Image Width: 15000
Max Download Image Count: null
Max Mosaic Image Count: null
Allow Raster Function: true
Allow Copy: true
Allow Analysis: true
Allow Compute TiePoints: false
Supports Statistics: false
Supports Advanced Queries: false
Use StandardizedQueries: true
Raster Type Infos:
Name: Raster Dataset
Description: Supports all ArcGIS Raster Datasets
Help:
Has Raster Attribute Table: false
Edit Fields Info: null
Ownership Based AccessControl For Rasters: null
Child Resources:
Info
Histograms
Statistics
Key Properties
Legend
Raster Function Infos
Multidimensional Info
Slices
Supported Operations:
Export Image
Identify
Measure
Compute Histograms
Compute Statistics Histograms
Get Samples
Compute Class Statistics
Query Boundary
Compute Pixel Location
Compute Angles
Validate
Project