{
 "currentVersion": 11.3,
 "serviceDescription": "prognosedaten_grad_3857",
 "name": "prognosedaten_grad_3857",
 "description": "",
 "extent": {
  "xmin": 1683109.291122794,
  "ymin": 5921714.579675495,
  "xmax": 1752930.644937636,
  "ymax": 5987932.250712797,
  "spatialReference": {
   "wkid": 102100,
   "latestWkid": 3857
  }
 },
 "initialExtent": {
  "xmin": 1683109.291122794,
  "ymin": 5921714.579675495,
  "xmax": 1752930.644937636,
  "ymax": 5987932.250712797,
  "spatialReference": {
   "wkid": 102100,
   "latestWkid": 3857
  }
 },
 "fullExtent": {
  "xmin": 1683109.291122794,
  "ymin": 5921714.579675495,
  "xmax": 1752930.644937636,
  "ymax": 5987932.250712797,
  "spatialReference": {
   "wkid": 102100,
   "latestWkid": 3857
  }
 },
 "sortableFields": "",
 "bandCount": 1,
 "pixelType": "F32",
 "minValues": [
  -0.7255558371543884
 ],
 "maxValues": [
  21.20744514465332
 ],
 "meanValues": [
  10.740316994134185
 ],
 "stdvValues": [
  4.437523820451517
 ],
 "hasMultidimensions": true,
 "timeInfo": {
  "startTimeField": "StdTime",
  "endTimeField": "StdTime",
  "timeExtent": [
   1745798400000,
   1745906400000
  ],
  "timeReference": null,
  "defaultTimeInterval": 1,
  "defaultTimeIntervalUnits": "esriTimeUnitsHours"
 },
 "pixelSizeX": 50.05114968805891,
 "pixelSizeY": 50.051149688059226,
 "meanPixelSize": 50.05114968805907,
 "datasetFormat": "Cache/LERC2D",
 "uncompressedSize": 7382340,
 "blockWidth": 256,
 "blockHeight": 256,
 "compressionType": "LERC2D",
 "bandNames": [
  "Band_1"
 ],
 "allowCopy": true,
 "allowAnalysis": true,
 "itemAccess": false,
 "defaultVariable": "",
 "inspectionCapabilities": "",
 "minPixelSize": 0,
 "maxPixelSize": 0,
 "copyrightText": "",
 "serviceDataType": "esriImageServiceDataTypeScientific",
 "serviceSourceType": "esriImageServiceSourceTypeDataset",
 "objectIdField": "",
 "fields": [],
 "capabilities": "Image,Metadata,Pixels,Mensuration",
 "defaultMosaicMethod": "Center",
 "allowedMosaicMethods": "",
 "sortField": "",
 "sortValue": null,
 "sortAscending": true,
 "mosaicOperator": "First",
 "defaultCompressionQuality": 75,
 "defaultResamplingMethod": "Bilinear",
 "maxImageHeight": 4100,
 "maxImageWidth": 15000,
 "allowRasterFunction": true,
 "rasterFunctionInfos": [
  {
   "name": "None",
   "description": "",
   "help": ""
  }
 ],
 "rasterTypeInfos": [
  {
   "name": "Raster Dataset",
   "description": "Supports all ArcGIS Raster Datasets",
   "help": ""
  }
 ],
 "mensurationCapabilities": "Basic",
 "hasHistograms": true,
 "hasColormap": false,
 "hasRasterAttributeTable": false,
 "minScale": 0,
 "maxScale": 0,
 "exportTilesAllowed": false,
 "supportsStatistics": false,
 "supportsAdvancedQueries": false,
 "editFieldsInfo": null,
 "ownershipBasedAccessControlForRasters": null,
 "allowComputeTiePoints": false,
 "useStandardizedQueries": true,
 "advancedQueryCapabilities": {
  "useStandardizedQueries": true,
  "supportsStatistics": false,
  "supportsOrderBy": false,
  "supportsDistinct": false,
  "supportsPagination": false
 },
 "spatialReference": {
  "wkid": 102100,
  "latestWkid": 3857
 }
}
