View In:
ArcGIS JavaScript
ArcGIS Online Map Viewer
ArcGIS Earth
Service Description: KIS/GruendachPhotovoltaik_neu
Name: KIS/GruendachPhotovoltaik_neu
Description:
Single Fused Map Cache: false
Extent:
XMin: -98886.8063
YMin: 186347.0473
XMax: -50446.118116097576
YMax: 247269.3852
Spatial Reference: 31256
(31256)
LatestVCSWkid(0)
Initial Extent:
XMin: -98886.8063
YMin: 186347.0473
XMax: -50446.118116097576
YMax: 247269.3852
Spatial Reference: 31256
(31256)
LatestVCSWkid(0)
Full Extent:
XMin: -98886.8063
YMin: 186347.0473
XMax: -50446.118116097576
YMax: 247269.3852
Spatial Reference: 31256
(31256)
LatestVCSWkid(0)
Pixel Size X: 297.1821360975609
Pixel Size Y: 297.1821360975609
Band Count: 1
Pixel Type: F64
RasterFunction Infos: {"rasterFunctionInfos": [
{
"name": "None",
"description": "Make a Raster or Raster Dataset into a Function Raster Dataset.",
"help": ""
},
{
"name": "Gruendachdiff_Nacht",
"description": "Temperaturdifferenz der Gründächer bei Nacht",
"help": ""
},
{
"name": "Gruendachdiff_Tag",
"description": "Temperaturdifferenz der Gründächer am Tag",
"help": ""
},
{
"name": "Photovoltdiff_Nacht",
"description": "Temperaturdifferenz der Photovoltaikdächer bei Nacht",
"help": ""
},
{
"name": "Photovoltdiff_Tag",
"description": "Temperaturdifferenz der Photovoltaikdächer bei Tag",
"help": ""
},
{
"name": "Darstellung Gruendachdiff_Nacht_NEU",
"description": "Darstellung Gruendachdiff_Nacht_NEU",
"help": ""
},
{
"name": "Darstellung Gruendachdiff_Tag_NEU",
"description": "Darstellung Gruendachdiff_Tag_NEU",
"help": ""
},
{
"name": "Darstellung Photovoltdiff_Nacht_NEU",
"description": "Darstellung Photovoltdiff_Nacht_NEU",
"help": ""
},
{
"name": "Darstellung Photovoltdiff_Tag_NEU",
"description": "Darstellung Photovoltdiff_Tag_NEU",
"help": ""
}
]}
Mensuration Capabilities: Basic
Inspection Capabilities:
Has Histograms: true
Has Colormap: false
Has Multi Dimensions : false
Rendering Rule:
Min Scale: 0
Max Scale: 0
Resampling: false
Copyright Text: © Magistrat Graz - Kein Rechtsanspruch aus der Karte ableitbar
Service Data Type: esriImageServiceDataTypeGeneric
Min Values: -0.26156995072960854
Max Values: 0.25764748826622963
Mean Values: -0.005571426748822297
Standard Deviation Values: 0.029207198745559826
Object ID Field: OBJECTID
Fields:
-
OBJECTID
(
type: esriFieldTypeOID, alias: OBJECTID
)
-
Shape
(
type: esriFieldTypeGeometry, alias: Shape
)
-
Name
(
type: esriFieldTypeString, alias: Name, length: 200
)
-
MinPS
(
type: esriFieldTypeDouble, alias: MinPS
)
-
MaxPS
(
type: esriFieldTypeDouble, alias: MaxPS
)
-
LowPS
(
type: esriFieldTypeDouble, alias: LowPS
)
-
HighPS
(
type: esriFieldTypeDouble, alias: HighPS
)
-
Category
(
type: esriFieldTypeInteger, alias: Category
, Coded Values:
[0: Unknown]
, [1: Primary]
, [2: Overview]
, ...6 more...
)
-
Tag
(
type: esriFieldTypeString, alias: Tag, length: 100
)
-
GroupName
(
type: esriFieldTypeString, alias: GroupName, length: 100
)
-
ProductName
(
type: esriFieldTypeString, alias: ProductName, length: 100
)
-
CenterX
(
type: esriFieldTypeDouble, alias: CenterX
)
-
CenterY
(
type: esriFieldTypeDouble, alias: CenterY
)
-
ZOrder
(
type: esriFieldTypeInteger, alias: ZOrder
)
-
Shape_Length
(
type: esriFieldTypeDouble, alias: Shape_Length
)
-
Shape_Area
(
type: esriFieldTypeDouble, alias: Shape_Area
)
-
DisplaySet
(
type: esriFieldTypeString, alias: DisplaySet, length: 255
)
-
DisplayID
(
type: esriFieldTypeInteger, alias: DisplayID
)
Default Mosaic Method: Northwest
Allowed Mosaic Methods: NorthWest,Center,LockRaster,ByAttribute,Nadir,Viewpoint,Seamline,None
SortField:
SortValue: null
Mosaic Operator: First
Default Compression Quality: 75
Default Resampling Method: Bilinear
Max Record Count: 1000
Max Image Height: 4100
Max Image Width: 15000
Max Download Image Count: 20
Max Mosaic Image Count: 20
Allow Raster Function: true
Allow Copy: true
Allow Analysis: true
Allow Compute TiePoints: false
Supports Statistics: true
Supports Advanced Queries: true
Use StandardizedQueries: true
Raster Type Infos:
Name: Raster Dataset
Description: Supports all ArcGIS Raster Datasets
Help:
Has Raster Attribute Table: false
Edit Fields Info: null
Ownership Based AccessControl For Rasters: null
Child Resources:
Info
Histograms
Statistics
Key Properties
Legend
Raster Function Infos
Supported Operations:
Export Image
Query
Identify
Measure
Compute Histograms
Compute Statistics Histograms
Get Samples
Compute Class Statistics
Query GPS Info
Find Images
Image to Map
Map to Image
Measure from Image
Image to Map Multiray
Query Boundary
Compute Pixel Location
Compute Angles
Validate
Project