{
 "currentVersion": 11.3,
 "serviceDescription": "KIS/GruendachPhotovoltaik_neu",
 "name": "KIS/GruendachPhotovoltaik_neu",
 "description": "",
 "extent": {
  "xmin": -98886.8063,
  "ymin": 186347.0473,
  "xmax": -50446.118116097576,
  "ymax": 247269.3852,
  "spatialReference": {
   "wkid": 31256,
   "latestWkid": 31256
  }
 },
 "initialExtent": {
  "xmin": -98886.8063,
  "ymin": 186347.0473,
  "xmax": -50446.118116097576,
  "ymax": 247269.3852,
  "spatialReference": {
   "wkid": 31256,
   "latestWkid": 31256
  }
 },
 "fullExtent": {
  "xmin": -98886.8063,
  "ymin": 186347.0473,
  "xmax": -50446.118116097576,
  "ymax": 247269.3852,
  "spatialReference": {
   "wkid": 31256,
   "latestWkid": 31256
  }
 },
 "sortableFields": "MinPS,MaxPS,LowPS,HighPS,CenterX,CenterY,ZOrder,Shape_Length,Shape_Area,DisplayID",
 "bandCount": 1,
 "pixelType": "F64",
 "minValues": [
  -0.26156995072960854
 ],
 "maxValues": [
  0.25764748826622963
 ],
 "meanValues": [
  -0.005571426748822297
 ],
 "stdvValues": [
  0.029207198745559826
 ],
 "hasMultidimensions": false,
 "pixelSizeX": 297.1821360975609,
 "pixelSizeY": 297.1821360975609,
 "meanPixelSize": 297.1821360975609,
 "datasetFormat": "AMD",
 "uncompressedSize": 267320,
 "blockWidth": 2048,
 "blockHeight": 256,
 "compressionType": "None",
 "bandNames": [
  "Band_1"
 ],
 "allowCopy": true,
 "allowAnalysis": true,
 "itemAccess": false,
 "inspectionCapabilities": "",
 "minPixelSize": 0,
 "maxPixelSize": 0,
 "copyrightText": "© Magistrat Graz - Kein Rechtsanspruch aus der Karte ableitbar",
 "serviceDataType": "esriImageServiceDataTypeGeneric",
 "serviceSourceType": "esriImageServiceSourceTypeMosaicDataset",
 "objectIdField": "OBJECTID",
 "fields": [
  {
   "name": "OBJECTID",
   "type": "esriFieldTypeOID",
   "alias": "OBJECTID",
   "domain": null
  },
  {
   "name": "Shape",
   "type": "esriFieldTypeGeometry",
   "alias": "Shape",
   "domain": null
  },
  {
   "name": "Name",
   "type": "esriFieldTypeString",
   "alias": "Name",
   "domain": null,
   "length": 200
  },
  {
   "name": "MinPS",
   "type": "esriFieldTypeDouble",
   "alias": "MinPS",
   "domain": null
  },
  {
   "name": "MaxPS",
   "type": "esriFieldTypeDouble",
   "alias": "MaxPS",
   "domain": null
  },
  {
   "name": "LowPS",
   "type": "esriFieldTypeDouble",
   "alias": "LowPS",
   "domain": null
  },
  {
   "name": "HighPS",
   "type": "esriFieldTypeDouble",
   "alias": "HighPS",
   "domain": null
  },
  {
   "name": "Category",
   "type": "esriFieldTypeInteger",
   "alias": "Category",
   "domain": {
    "type": "codedValue",
    "name": "MosaicCatalogItemCategoryDomain",
    "description": "Catalog item categories.",
    "codedValues": [
     {
      "name": "Unknown",
      "code": 0
     },
     {
      "name": "Primary",
      "code": 1
     },
     {
      "name": "Overview",
      "code": 2
     },
     {
      "name": "Unprocessed Overview",
      "code": 3
     },
     {
      "name": "Partial Overview",
      "code": 4
     },
     {
      "name": "Inactive",
      "code": 5
     },
     {
      "name": "Uploaded",
      "code": 253
     },
     {
      "name": "Incomplete",
      "code": 254
     },
     {
      "name": "Custom",
      "code": 255
     }
    ],
    "mergePolicy": "esriMPTDefaultValue",
    "splitPolicy": "esriSPTDefaultValue"
   }
  },
  {
   "name": "Tag",
   "type": "esriFieldTypeString",
   "alias": "Tag",
   "domain": null,
   "length": 100
  },
  {
   "name": "GroupName",
   "type": "esriFieldTypeString",
   "alias": "GroupName",
   "domain": null,
   "length": 100
  },
  {
   "name": "ProductName",
   "type": "esriFieldTypeString",
   "alias": "ProductName",
   "domain": null,
   "length": 100
  },
  {
   "name": "CenterX",
   "type": "esriFieldTypeDouble",
   "alias": "CenterX",
   "domain": null
  },
  {
   "name": "CenterY",
   "type": "esriFieldTypeDouble",
   "alias": "CenterY",
   "domain": null
  },
  {
   "name": "ZOrder",
   "type": "esriFieldTypeInteger",
   "alias": "ZOrder",
   "domain": null
  },
  {
   "name": "Shape_Length",
   "type": "esriFieldTypeDouble",
   "alias": "Shape_Length",
   "domain": null
  },
  {
   "name": "Shape_Area",
   "type": "esriFieldTypeDouble",
   "alias": "Shape_Area",
   "domain": null
  },
  {
   "name": "DisplaySet",
   "type": "esriFieldTypeString",
   "alias": "DisplaySet",
   "domain": null,
   "length": 255
  },
  {
   "name": "DisplayID",
   "type": "esriFieldTypeInteger",
   "alias": "DisplayID",
   "domain": null
  }
 ],
 "capabilities": "Catalog,Mensuration,Image,Metadata",
 "defaultMosaicMethod": "Northwest",
 "allowedMosaicMethods": "NorthWest,Center,LockRaster,ByAttribute,Nadir,Viewpoint,Seamline,None",
 "sortField": "",
 "sortValue": null,
 "sortAscending": true,
 "mosaicOperator": "First",
 "maxDownloadSizeLimit": 2048,
 "defaultCompressionQuality": 75,
 "defaultResamplingMethod": "Bilinear",
 "maxImageHeight": 4100,
 "maxImageWidth": 15000,
 "maxRecordCount": 1000,
 "maxDownloadImageCount": 20,
 "maxMosaicImageCount": 20,
 "allowRasterFunction": true,
 "rasterFunctionInfos": [
  {
   "name": "None",
   "description": "Make a Raster or Raster Dataset into a Function Raster Dataset.",
   "help": ""
  },
  {
   "name": "Gruendachdiff_Nacht",
   "description": "Temperaturdifferenz der Gründächer bei Nacht",
   "help": ""
  },
  {
   "name": "Gruendachdiff_Tag",
   "description": "Temperaturdifferenz der Gründächer am Tag",
   "help": ""
  },
  {
   "name": "Photovoltdiff_Nacht",
   "description": "Temperaturdifferenz der Photovoltaikdächer bei Nacht",
   "help": ""
  },
  {
   "name": "Photovoltdiff_Tag",
   "description": "Temperaturdifferenz der Photovoltaikdächer bei Tag",
   "help": ""
  },
  {
   "name": "Darstellung Gruendachdiff_Nacht_NEU",
   "description": "Darstellung Gruendachdiff_Nacht_NEU",
   "help": ""
  },
  {
   "name": "Darstellung Gruendachdiff_Tag_NEU",
   "description": "Darstellung Gruendachdiff_Tag_NEU",
   "help": ""
  },
  {
   "name": "Darstellung Photovoltdiff_Nacht_NEU",
   "description": "Darstellung Photovoltdiff_Nacht_NEU",
   "help": ""
  },
  {
   "name": "Darstellung Photovoltdiff_Tag_NEU",
   "description": "Darstellung Photovoltdiff_Tag_NEU",
   "help": ""
  }
 ],
 "rasterTypeInfos": [
  {
   "name": "Raster Dataset",
   "description": "Supports all ArcGIS Raster Datasets",
   "help": ""
  }
 ],
 "mensurationCapabilities": "Basic",
 "hasHistograms": true,
 "hasColormap": false,
 "hasRasterAttributeTable": false,
 "minScale": 0,
 "maxScale": 0,
 "exportTilesAllowed": false,
 "supportsStatistics": true,
 "supportsAdvancedQueries": true,
 "editFieldsInfo": null,
 "ownershipBasedAccessControlForRasters": null,
 "allowComputeTiePoints": false,
 "useStandardizedQueries": true,
 "advancedQueryCapabilities": {
  "useStandardizedQueries": true,
  "supportsStatistics": true,
  "supportsOrderBy": true,
  "supportsDistinct": true,
  "supportsPagination": true
 },
 "spatialReference": {
  "wkid": 31256,
  "latestWkid": 31256
 },
 "resampling": false
}
