View In:
ArcGIS JavaScript
ArcGIS Online Map Viewer
ArcGIS Earth
Service Description: KIS/Graz_final_classification_31256_NEU_tif
Name: KIS/Graz_final_classification_31256_NEU_tif
Description:
Single Fused Map Cache: false
Extent:
XMin: -74755.35782816172
YMin: 208354.17302287353
XMax: -60513.757828161724
YMax: 222201.57302287314
Spatial Reference: 31256
(31256)
LatestVCSWkid(0)
Initial Extent:
XMin: -74755.35782816172
YMin: 208354.17302287353
XMax: -60513.757828161724
YMax: 222201.57302287314
Spatial Reference: 31256
(31256)
LatestVCSWkid(0)
Full Extent:
XMin: -74755.35782816172
YMin: 208354.17302287353
XMax: -60513.757828161724
YMax: 222201.57302287314
Spatial Reference: 31256
(31256)
LatestVCSWkid(0)
Pixel Size X: 1.7999999999999998
Pixel Size Y: 1.79999999999995
Band Count: 1
Pixel Type: U8
RasterFunction Infos: {"rasterFunctionInfos": [
{
"name": "None",
"description": "Make a Raster or Raster Dataset into a Function Raster Dataset.",
"help": ""
},
{
"name": "Hyperspektralklassifikation_Template_v3",
"description": "Template fuer Hyperspektralklassifikation - v3",
"help": ""
}
]}
Mensuration Capabilities: Basic
Inspection Capabilities:
Has Histograms: true
Has Colormap: false
Has Multi Dimensions : false
Rendering Rule:
Min Scale: 0
Max Scale: 0
Resampling: false
Copyright Text: © Magistrat Graz - Kein Rechtsanspruch aus der Karte ableitbar
Service Data Type: esriImageServiceDataTypeThematic
Min Values: 1
Max Values: 23
Mean Values: 17.95679329004
Standard Deviation Values: 6.6283589514161
Object ID Field:
Fields:
None
Default Mosaic Method: Center
Allowed Mosaic Methods:
SortField:
SortValue: null
Mosaic Operator: First
Default Compression Quality: 75
Default Resampling Method: Bilinear
Max Record Count: null
Max Image Height: 4100
Max Image Width: 15000
Max Download Image Count: null
Max Mosaic Image Count: null
Allow Raster Function: true
Allow Copy: true
Allow Analysis: true
Allow Compute TiePoints: false
Supports Statistics: false
Supports Advanced Queries: false
Use StandardizedQueries: true
Raster Type Infos:
Name: Raster Dataset
Description: Supports all ArcGIS Raster Datasets
Help:
Has Raster Attribute Table: false
Edit Fields Info: null
Ownership Based AccessControl For Rasters: null
Child Resources:
Info
Histograms
Statistics
Key Properties
Legend
Raster Function Infos
Supported Operations:
Export Image
Identify
Measure
Compute Histograms
Compute Statistics Histograms
Get Samples
Compute Class Statistics
Query Boundary
Compute Pixel Location
Compute Angles
Validate
Project