{
 "currentVersion": 11.3,
 "serviceDescription": "KIS/Graz_final_classification_31256_NEU_tif",
 "name": "KIS/Graz_final_classification_31256_NEU_tif",
 "description": "",
 "extent": {
  "xmin": -74755.35782816172,
  "ymin": 208354.17302287353,
  "xmax": -60513.757828161724,
  "ymax": 222201.57302287314,
  "spatialReference": {
   "wkid": 31256,
   "latestWkid": 31256
  }
 },
 "initialExtent": {
  "xmin": -74755.35782816172,
  "ymin": 208354.17302287353,
  "xmax": -60513.757828161724,
  "ymax": 222201.57302287314,
  "spatialReference": {
   "wkid": 31256,
   "latestWkid": 31256
  }
 },
 "fullExtent": {
  "xmin": -74755.35782816172,
  "ymin": 208354.17302287353,
  "xmax": -60513.757828161724,
  "ymax": 222201.57302287314,
  "spatialReference": {
   "wkid": 31256,
   "latestWkid": 31256
  }
 },
 "sortableFields": "",
 "bandCount": 1,
 "pixelType": "U8",
 "minValues": [
  1
 ],
 "maxValues": [
  23
 ],
 "meanValues": [
  17.95679329004
 ],
 "stdvValues": [
  6.6283589514161
 ],
 "hasMultidimensions": false,
 "pixelSizeX": 1.7999999999999998,
 "pixelSizeY": 1.79999999999995,
 "meanPixelSize": 1.799999999999975,
 "datasetFormat": "TIFF",
 "uncompressedSize": 60867016,
 "blockWidth": 128,
 "blockHeight": 128,
 "compressionType": "LZW",
 "bandNames": [
  "Band_1"
 ],
 "allowCopy": true,
 "allowAnalysis": true,
 "itemAccess": false,
 "inspectionCapabilities": "",
 "noDataValue": 0,
 "noDataValues": [
  0
 ],
 "minPixelSize": 0,
 "maxPixelSize": 0,
 "copyrightText": "© Magistrat Graz - Kein Rechtsanspruch aus der Karte ableitbar",
 "serviceDataType": "esriImageServiceDataTypeThematic",
 "serviceSourceType": "esriImageServiceSourceTypeDataset",
 "objectIdField": "",
 "fields": [],
 "capabilities": "Mensuration,Image,Metadata",
 "defaultMosaicMethod": "Center",
 "allowedMosaicMethods": "",
 "sortField": "",
 "sortValue": null,
 "sortAscending": true,
 "mosaicOperator": "First",
 "defaultCompressionQuality": 75,
 "defaultResamplingMethod": "Bilinear",
 "maxImageHeight": 4100,
 "maxImageWidth": 15000,
 "allowRasterFunction": true,
 "rasterFunctionInfos": [
  {
   "name": "None",
   "description": "Make a Raster or Raster Dataset into a Function Raster Dataset.",
   "help": ""
  },
  {
   "name": "Hyperspektralklassifikation_Template_v3",
   "description": "Template fuer Hyperspektralklassifikation - v3",
   "help": ""
  }
 ],
 "rasterTypeInfos": [
  {
   "name": "Raster Dataset",
   "description": "Supports all ArcGIS Raster Datasets",
   "help": ""
  }
 ],
 "mensurationCapabilities": "Basic",
 "hasHistograms": true,
 "hasColormap": false,
 "hasRasterAttributeTable": false,
 "minScale": 0,
 "maxScale": 0,
 "exportTilesAllowed": false,
 "supportsStatistics": false,
 "supportsAdvancedQueries": false,
 "editFieldsInfo": null,
 "ownershipBasedAccessControlForRasters": null,
 "allowComputeTiePoints": false,
 "useStandardizedQueries": true,
 "advancedQueryCapabilities": {
  "useStandardizedQueries": true,
  "supportsStatistics": false,
  "supportsOrderBy": false,
  "supportsDistinct": false,
  "supportsPagination": false
 },
 "spatialReference": {
  "wkid": 31256,
  "latestWkid": 31256
 },
 "resampling": false
}
