View In:
ArcGIS JavaScript
ArcGIS Online Map Viewer
ArcGIS Earth
Service Description: VMA/SCHUMMERUNG_2024_ref
Name: VMA/SCHUMMERUNG_2024_ref
Description:
Single Fused Map Cache: true
Tile Info:
- Height: 256
- Width: 256
- DPI: 96
-
Levels of Detail: 19
-
Level ID: 0
[ Start Tile, End Tile ]
- Resolution: 78131.67784711007
- Scale: 2.9530082965836877E8
-
Level ID: 1
[ Start Tile, End Tile ]
- Resolution: 39065.838923555035
- Scale: 1.4765041482918438E8
-
Level ID: 2
[ Start Tile, End Tile ]
- Resolution: 19532.919461777517
- Scale: 7.382520741459219E7
-
Level ID: 3
[ Start Tile, End Tile ]
- Resolution: 9766.459730888759
- Scale: 3.6912603707296096E7
-
Level ID: 4
[ Start Tile, End Tile ]
- Resolution: 4883.229865444379
- Scale: 1.8456301853648048E7
-
Level ID: 5
[ Start Tile, End Tile ]
- Resolution: 2441.6149327221897
- Scale: 9228150.926824024
-
Level ID: 6
[ Start Tile, End Tile ]
- Resolution: 1220.8074663610948
- Scale: 4614075.463412012
-
Level ID: 7
[ Start Tile, End Tile ]
- Resolution: 610.4037331805474
- Scale: 2307037.731706006
-
Level ID: 8
[ Start Tile, End Tile ]
- Resolution: 305.2018665902737
- Scale: 1153518.865853003
-
Level ID: 9
[ Start Tile, End Tile ]
- Resolution: 152.60093329513685
- Scale: 576759.4329265015
-
Level ID: 10
[ Start Tile, End Tile ]
- Resolution: 76.30046664756843
- Scale: 288379.71646325075
-
Level ID: 11
[ Start Tile, End Tile ]
- Resolution: 38.150233323784214
- Scale: 144189.85823162537
-
Level ID: 12
[ Start Tile, End Tile ]
- Resolution: 19.075116661892107
- Scale: 72094.92911581269
-
Level ID: 13
[ Start Tile, End Tile ]
- Resolution: 9.537558330946053
- Scale: 36047.46455790634
-
Level ID: 14
[ Start Tile, End Tile ]
- Resolution: 4.768779165473027
- Scale: 18023.73227895317
-
Level ID: 15
[ Start Tile, End Tile ]
- Resolution: 2.3843895827365134
- Scale: 9011.866139476586
-
Level ID: 16
[ Start Tile, End Tile ]
- Resolution: 1.1921947913682567
- Scale: 4505.933069738293
-
Level ID: 17
[ Start Tile, End Tile ]
- Resolution: 0.5960973956841283
- Scale: 2252.9665348691465
-
Level ID: 18
[ Start Tile, End Tile ]
- Resolution: 0.29804869784206417
- Scale: 1126.4832674345732
- Format: PNG
- Compression Quality: 0.0
- LERC Error: NaN
- Origin: X: -1.0000854764430089E7
Y: 5000854.764430089
- Spatial Reference: 31256
(31256)
LatestVCSWkid(0)
Storage Info:
- Storage Format: esriMapCacheStorageModeCompactV2
- Packet Size: 128
Extent:
XMin: -76250.09999999963
YMin: 207999.89999999967
XMax: -58749.89999999967
YMax: 226000.09999999963
Spatial Reference: 31256
(31256)
LatestVCSWkid(0)
Initial Extent:
XMin: -76250.09999999963
YMin: 207999.89999999967
XMax: -58749.89999999967
YMax: 226000.09999999963
Spatial Reference: 31256
(31256)
LatestVCSWkid(0)
Full Extent:
XMin: -76250.09999999963
YMin: 207999.89999999967
XMax: -58749.89999999967
YMax: 226000.09999999963
Spatial Reference: 31256
(31256)
LatestVCSWkid(0)
Pixel Size X: 0.19999999999999954
Pixel Size Y: 0.19999999999999948
Band Count: 1
Pixel Type: F32
RasterFunction Infos: {"rasterFunctionInfos": [{
"name": "None",
"description": "",
"help": ""
}]}
Mensuration Capabilities: None
Inspection Capabilities:
Has Histograms: true
Has Colormap: false
Has Multi Dimensions : false
Rendering Rule:
Min Scale: 5.91657527591555E8
Max Scale: 141.062147
Min LOD: 0
Max LOD: 18
Copyright Text:
Service Data Type: esriImageServiceDataTypeGeneric
Min Values: 1
Max Values: 254
Mean Values: 126.77031875480968
Standard Deviation Values: 27.520840336990453
Object ID Field: OBJECTID
Fields:
-
OBJECTID
(
type: esriFieldTypeOID, alias: OBJECTID
)
-
Shape
(
type: esriFieldTypeGeometry, alias: Shape
)
-
Name
(
type: esriFieldTypeString, alias: Name, length: 200
)
-
MinPS
(
type: esriFieldTypeDouble, alias: MinPS
)
-
MaxPS
(
type: esriFieldTypeDouble, alias: MaxPS
)
-
LowPS
(
type: esriFieldTypeDouble, alias: LowPS
)
-
HighPS
(
type: esriFieldTypeDouble, alias: HighPS
)
-
Category
(
type: esriFieldTypeInteger, alias: Category
, Coded Values:
[0: Unknown]
, [1: Primary]
, [2: Overview]
, ...6 more...
)
-
Tag
(
type: esriFieldTypeString, alias: Tag, length: 100
)
-
GroupName
(
type: esriFieldTypeString, alias: GroupName, length: 100
)
-
ProductName
(
type: esriFieldTypeString, alias: ProductName, length: 100
)
-
CenterX
(
type: esriFieldTypeDouble, alias: CenterX
)
-
CenterY
(
type: esriFieldTypeDouble, alias: CenterY
)
-
ZOrder
(
type: esriFieldTypeInteger, alias: ZOrder
)
-
Shape_Length
(
type: esriFieldTypeDouble, alias: Shape_Length
)
-
Shape_Area
(
type: esriFieldTypeDouble, alias: Shape_Area
)
Default Mosaic Method: Northwest
Allowed Mosaic Methods: NorthWest,Center,LockRaster,ByAttribute,Nadir,Viewpoint,Seamline,None
SortField:
SortValue: null
Mosaic Operator: First
Default Compression Quality: 75
Default Resampling Method: Bilinear
Max Record Count: 1000
Max Image Height: 4100
Max Image Width: 15000
Max Download Image Count: 20
Max Mosaic Image Count: 20
Allow Raster Function: true
Allow Copy: true
Allow Analysis: true
Allow Compute TiePoints: false
Supports Statistics: true
Supports Advanced Queries: true
Use StandardizedQueries: true
Raster Type Infos:
Name: Raster Dataset
Description: Supports all ArcGIS Raster Datasets
Help:
Has Raster Attribute Table: false
Edit Fields Info: null
Ownership Based AccessControl For Rasters: null
Child Resources:
Info
Histograms
Statistics
Key Properties
Legend
Raster Function Infos
Supported Operations:
Export Image
Query
Identify
Compute Histograms
Compute Statistics Histograms
Get Samples
Compute Class Statistics
Query GPS Info
Find Images
Image to Map
Map to Image
Measure from Image
Image to Map Multiray
Query Boundary
Compute Pixel Location
Compute Angles
Validate
Project