View In:
ArcGIS JavaScript
ArcGIS Online Map Viewer
ArcGIS Earth
Service Description: VMA/ORTHOPHOTO_2024_512
Name: VMA/ORTHOPHOTO_2024_512
Description:
Single Fused Map Cache: true
Tile Info:
- Height: 512
- Width: 512
- DPI: 96
-
Levels of Detail: 22
-
Level ID: 16
[ Start Tile, End Tile ]
- Resolution: 1.0093073368112884
- Scale: 3814.697265625
-
Level ID: 17
[ Start Tile, End Tile ]
- Resolution: 0.5046536684056442
- Scale: 1907.3486328125
-
Level ID: 18
[ Start Tile, End Tile ]
- Resolution: 0.2523268342028221
- Scale: 953.67431640625
-
Level ID: 19
[ Start Tile, End Tile ]
- Resolution: 0.12616341710141105
- Scale: 476.837158203125
-
Level ID: 20
[ Start Tile, End Tile ]
- Resolution: 0.06308170855070552
- Scale: 238.4185791015625
-
Level ID: 21
[ Start Tile, End Tile ]
- Resolution: 0.03154085427535276
- Scale: 119.20928955078125
- Format: PNG
- Compression Quality: 0.0
- LERC Error: NaN
- Origin: X: -5622500.0
Y: 5001000.0
- Spatial Reference: 0
(0)
LatestVCSWkid(0)
Storage Info:
- Storage Format: esriMapCacheStorageModeCompactV2
- Packet Size: 128
Extent:
XMin: -77500.01263775489
YMin: 205000.014430089
XMax: -59375.012637754895
YMax: 228000.014430089
Spatial Reference: 0
(0)
LatestVCSWkid(0)
Initial Extent:
XMin: -77500.01263775489
YMin: 205000.014430089
XMax: -59375.012637754895
YMax: 228000.014430089
Spatial Reference: 0
(0)
LatestVCSWkid(0)
Full Extent:
XMin: -77500.01263775489
YMin: 205000.014430089
XMax: -59375.012637754895
YMax: 228000.014430089
Spatial Reference: 0
(0)
LatestVCSWkid(0)
Pixel Size X: 0.04999999999999998
Pixel Size Y: 0.05
Band Count: 3
Pixel Type: U8
RasterFunction Infos: {"rasterFunctionInfos": [{
"name": "None",
"description": "",
"help": ""
}]}
Mensuration Capabilities: Basic
Inspection Capabilities:
Has Histograms: false
Has Colormap: false
Has Multi Dimensions : false
Rendering Rule:
Min Scale: 250000000
Max Scale: 1907.3486328125
Min LOD: 0
Max LOD: 17
Copyright Text:
Service Data Type: esriImageServiceDataTypeRGB
Min Values: N/A
Max Values: N/A
Mean Values: N/A
Standard Deviation Values: N/A
Object ID Field:
Fields:
None
Default Mosaic Method: Center
Allowed Mosaic Methods:
SortField:
SortValue: null
Mosaic Operator: First
Default Compression Quality: 75
Default Resampling Method: Bilinear
Max Record Count: null
Max Image Height: 4100
Max Image Width: 15000
Max Download Image Count: null
Max Mosaic Image Count: null
Allow Raster Function: true
Allow Copy: true
Allow Analysis: true
Allow Compute TiePoints: false
Supports Statistics: false
Supports Advanced Queries: false
Use StandardizedQueries: true
Raster Type Infos:
Name: Raster Dataset
Description: Supports all ArcGIS Raster Datasets
Help:
Has Raster Attribute Table: false
Edit Fields Info: null
Ownership Based AccessControl For Rasters: null
Child Resources:
Info
Statistics
Key Properties
Legend
Raster Function Infos
Supported Operations:
Export Image
Identify
Measure
Compute Histograms
Compute Statistics Histograms
Get Samples
Compute Class Statistics
Query Boundary
Compute Pixel Location
Compute Angles
Validate
Project