View In:
ArcGIS JavaScript
ArcGIS Online Map Viewer
ArcGIS Earth
Service Description: Surfex_prognosedaten
Name: Surfex_prognosedaten
Description:
Single Fused Map Cache: false
Extent:
XMin: 509115.54353304335
YMin: 5191565.071772354
XMax: 556463.9311379471
YMax: 5236310.799593478
Spatial Reference: 32633
(32633)
Initial Extent:
XMin: 509115.54353304335
YMin: 5191565.071772354
XMax: 556463.9311379471
YMax: 5236310.799593478
Spatial Reference: 32633
(32633)
Full Extent:
XMin: 509115.54353304335
YMin: 5191565.071772354
XMax: 556463.9311379471
YMax: 5236310.799593478
Spatial Reference: 32633
(32633)
Time Info:
Start Time Field: StdTime
End Time Field: StdTime
Time Extent:
[2025/04/08 00:00:00 UTC, 2025/04/09 06:00:00 UTC]
Time Reference:
N/A
Pixel Size X: 50.05114968805896
Pixel Size Y: 50.05114968805897
Band Count: 1
Pixel Type: F32
RasterFunction Infos: {"rasterFunctionInfos": [{
"name": "None",
"description": "",
"help": ""
}]}
Mensuration Capabilities: Basic
Inspection Capabilities:
Has Histograms: true
Has Colormap: false
Has Multi Dimensions : true
Rendering Rule:
Min Scale: 0
Max Scale: 0
Copyright Text:
Service Data Type: esriImageServiceDataTypeScientific
Min Values: -5.98223876953125
Max Values: 13.486083984375
Mean Values: 3.63406043251288
Standard Deviation Values: 4.1774969205637005
Object ID Field:
Fields:
None
Default Mosaic Method: Center
Allowed Mosaic Methods:
SortField:
SortValue: null
Mosaic Operator: First
Default Compression Quality: 75
Default Resampling Method: Bilinear
Max Record Count: null
Max Image Height: 4100
Max Image Width: 15000
Max Download Image Count: null
Max Mosaic Image Count: null
Allow Raster Function: true
Allow Copy: true
Allow Analysis: true
Allow Compute TiePoints: false
Supports Statistics: false
Supports Advanced Queries: false
Use StandardizedQueries: true
Raster Type Infos:
Name: Raster Dataset
Description: Supports all ArcGIS Raster Datasets
Help:
Has Raster Attribute Table: false
Edit Fields Info: null
Ownership Based AccessControl For Rasters: null
Child Resources:
Info
Histograms
Statistics
Key Properties
Legend
Raster Function Infos
Multidimensional Info
Slices
Supported Operations:
Export Image
Identify
Compute Histograms
Compute Statistics Histograms
Get Samples
Compute Class Statistics
Query Boundary
Compute Pixel Location
Compute Angles
Validate
Project