{
 "currentVersion": 11.3,
 "serviceDescription": "VMA/DOM_SCHUMMERUNG_2024_ref",
 "name": "VMA/DOM_SCHUMMERUNG_2024_ref",
 "description": "",
 "extent": {
  "xmin": -76250.09999999963,
  "ymin": 207999.89973177575,
  "xmax": -58749.899739226326,
  "ymax": 226000.09999999963,
  "spatialReference": {
   "wkid": 31256,
   "latestWkid": 31256
  }
 },
 "initialExtent": {
  "xmin": -76250.09999999963,
  "ymin": 207999.89973177575,
  "xmax": -58749.899739226326,
  "ymax": 226000.09999999963,
  "spatialReference": {
   "wkid": 31256,
   "latestWkid": 31256
  }
 },
 "fullExtent": {
  "xmin": -76250.09999999963,
  "ymin": 207999.89973177575,
  "xmax": -58749.899739226326,
  "ymax": 226000.09999999963,
  "spatialReference": {
   "wkid": 31256,
   "latestWkid": 31256
  }
 },
 "sortableFields": "MinPS,MaxPS,LowPS,HighPS,CenterX,CenterY,ZOrder,Shape_Length,Shape_Area",
 "bandCount": 1,
 "pixelType": "U8",
 "minValues": [
  1
 ],
 "maxValues": [
  254
 ],
 "meanValues": [
  126.0876661805848
 ],
 "stdvValues": [
  79.2535111291994
 ],
 "hasMultidimensions": false,
 "pixelSizeX": 0.20000000298023224,
 "pixelSizeY": 0.20000000298023224,
 "meanPixelSize": 0.20000000298023224,
 "datasetFormat": "AMD",
 "uncompressedSize": 7875177501,
 "blockWidth": 2048,
 "blockHeight": 256,
 "compressionType": "None",
 "bandNames": [
  "Band_1"
 ],
 "allowCopy": true,
 "allowAnalysis": true,
 "itemAccess": false,
 "inspectionCapabilities": "",
 "minPixelSize": 0.07464538612083334,
 "maxPixelSize": 156542.72084193229,
 "copyrightText": "",
 "serviceDataType": "esriImageServiceDataTypeGeneric",
 "serviceSourceType": "esriImageServiceSourceTypeMosaicDataset",
 "objectIdField": "OBJECTID",
 "fields": [
  {
   "name": "OBJECTID",
   "type": "esriFieldTypeOID",
   "alias": "OBJECTID",
   "domain": null
  },
  {
   "name": "Shape",
   "type": "esriFieldTypeGeometry",
   "alias": "Shape",
   "domain": null
  },
  {
   "name": "Name",
   "type": "esriFieldTypeString",
   "alias": "Name",
   "domain": null,
   "length": 200
  },
  {
   "name": "MinPS",
   "type": "esriFieldTypeDouble",
   "alias": "MinPS",
   "domain": null
  },
  {
   "name": "MaxPS",
   "type": "esriFieldTypeDouble",
   "alias": "MaxPS",
   "domain": null
  },
  {
   "name": "LowPS",
   "type": "esriFieldTypeDouble",
   "alias": "LowPS",
   "domain": null
  },
  {
   "name": "HighPS",
   "type": "esriFieldTypeDouble",
   "alias": "HighPS",
   "domain": null
  },
  {
   "name": "Category",
   "type": "esriFieldTypeInteger",
   "alias": "Category",
   "domain": {
    "type": "codedValue",
    "name": "MosaicCatalogItemCategoryDomain",
    "description": "Catalog item categories.",
    "codedValues": [
     {
      "name": "Unknown",
      "code": 0
     },
     {
      "name": "Primary",
      "code": 1
     },
     {
      "name": "Overview",
      "code": 2
     },
     {
      "name": "Unprocessed Overview",
      "code": 3
     },
     {
      "name": "Partial Overview",
      "code": 4
     },
     {
      "name": "Inactive",
      "code": 5
     },
     {
      "name": "Uploaded",
      "code": 253
     },
     {
      "name": "Incomplete",
      "code": 254
     },
     {
      "name": "Custom",
      "code": 255
     }
    ],
    "mergePolicy": "esriMPTDefaultValue",
    "splitPolicy": "esriSPTDefaultValue"
   }
  },
  {
   "name": "Tag",
   "type": "esriFieldTypeString",
   "alias": "Tag",
   "domain": null,
   "length": 100
  },
  {
   "name": "GroupName",
   "type": "esriFieldTypeString",
   "alias": "GroupName",
   "domain": null,
   "length": 100
  },
  {
   "name": "ProductName",
   "type": "esriFieldTypeString",
   "alias": "ProductName",
   "domain": null,
   "length": 100
  },
  {
   "name": "CenterX",
   "type": "esriFieldTypeDouble",
   "alias": "CenterX",
   "domain": null
  },
  {
   "name": "CenterY",
   "type": "esriFieldTypeDouble",
   "alias": "CenterY",
   "domain": null
  },
  {
   "name": "ZOrder",
   "type": "esriFieldTypeInteger",
   "alias": "ZOrder",
   "domain": null
  },
  {
   "name": "Shape_Length",
   "type": "esriFieldTypeDouble",
   "alias": "Shape_Length",
   "domain": null
  },
  {
   "name": "Shape_Area",
   "type": "esriFieldTypeDouble",
   "alias": "Shape_Area",
   "domain": null
  }
 ],
 "capabilities": "Image,Metadata,Pixels,Catalog,Download",
 "defaultMosaicMethod": "Northwest",
 "allowedMosaicMethods": "NorthWest,Center,LockRaster,ByAttribute,Nadir,Viewpoint,Seamline,None",
 "sortField": "",
 "sortValue": null,
 "sortAscending": true,
 "mosaicOperator": "First",
 "maxDownloadSizeLimit": 2048,
 "defaultCompressionQuality": 75,
 "defaultResamplingMethod": "Bilinear",
 "maxImageHeight": 4100,
 "maxImageWidth": 15000,
 "maxRecordCount": 1000,
 "maxDownloadImageCount": 20,
 "maxMosaicImageCount": 20,
 "singleFusedMapCache": true,
 "tileInfo": {
  "rows": 256,
  "cols": 256,
  "dpi": 96,
  "format": "PNG",
  "compressionQuality": 0,
  "origin": {
   "x": -1.0000854764430089E7,
   "y": 5000854.764430089
  },
  "spatialReference": {
   "wkid": 31256,
   "latestWkid": 31256
  },
  "lods": [
   {
    "level": 0,
    "resolution": 78131.67784711007,
    "scale": 2.9530082965836877E8
   },
   {
    "level": 1,
    "resolution": 39065.838923555035,
    "scale": 1.4765041482918438E8
   },
   {
    "level": 2,
    "resolution": 19532.919461777517,
    "scale": 7.382520741459219E7
   },
   {
    "level": 3,
    "resolution": 9766.459730888759,
    "scale": 3.6912603707296096E7
   },
   {
    "level": 4,
    "resolution": 4883.229865444379,
    "scale": 1.8456301853648048E7
   },
   {
    "level": 5,
    "resolution": 2441.6149327221897,
    "scale": 9228150.926824024
   },
   {
    "level": 6,
    "resolution": 1220.8074663610948,
    "scale": 4614075.463412012
   },
   {
    "level": 7,
    "resolution": 610.4037331805474,
    "scale": 2307037.731706006
   },
   {
    "level": 8,
    "resolution": 305.2018665902737,
    "scale": 1153518.865853003
   },
   {
    "level": 9,
    "resolution": 152.60093329513685,
    "scale": 576759.4329265015
   },
   {
    "level": 10,
    "resolution": 76.30046664756843,
    "scale": 288379.71646325075
   },
   {
    "level": 11,
    "resolution": 38.150233323784214,
    "scale": 144189.85823162537
   },
   {
    "level": 12,
    "resolution": 19.075116661892107,
    "scale": 72094.92911581269
   },
   {
    "level": 13,
    "resolution": 9.537558330946053,
    "scale": 36047.46455790634
   },
   {
    "level": 14,
    "resolution": 4.768779165473027,
    "scale": 18023.73227895317
   },
   {
    "level": 15,
    "resolution": 2.3843895827365134,
    "scale": 9011.866139476586
   },
   {
    "level": 16,
    "resolution": 1.1921947913682567,
    "scale": 4505.933069738293
   },
   {
    "level": 17,
    "resolution": 0.5960973956841283,
    "scale": 2252.9665348691465
   },
   {
    "level": 18,
    "resolution": 0.29804869784206417,
    "scale": 1126.4832674345732
   }
  ]
 },
 "storageInfo": {
  "storageFormat": "esriMapCacheStorageModeCompactV2",
  "packetSize": 128
 },
 "cacheType": "Map",
 "allowRasterFunction": true,
 "rasterFunctionInfos": [
  {
   "name": "None",
   "description": "",
   "help": ""
  }
 ],
 "rasterTypeInfos": [
  {
   "name": "Raster Dataset",
   "description": "Supports all ArcGIS Raster Datasets",
   "help": ""
  }
 ],
 "mensurationCapabilities": "None",
 "hasHistograms": true,
 "hasColormap": false,
 "hasRasterAttributeTable": false,
 "minScale": 5.91657527591555E8,
 "maxScale": 282.124294,
 "minLOD": 0,
 "maxLOD": 18,
 "exportTilesAllowed": false,
 "supportsStatistics": true,
 "supportsAdvancedQueries": true,
 "editFieldsInfo": null,
 "ownershipBasedAccessControlForRasters": null,
 "allowComputeTiePoints": false,
 "useStandardizedQueries": true,
 "advancedQueryCapabilities": {
  "useStandardizedQueries": true,
  "supportsStatistics": true,
  "supportsOrderBy": true,
  "supportsDistinct": true,
  "supportsPagination": true
 },
 "spatialReference": {
  "wkid": 31256,
  "latestWkid": 31256
 }
}
