{
 "currentVersion": 11.3,
 "serviceDescription": "KIS/Kaltluft_Klam",
 "name": "KIS/Kaltluft_Klam",
 "description": "",
 "extent": {
  "xmin": -93381.72885936935,
  "ymin": 186650.68459279195,
  "xmax": -41732.017206762,
  "ymax": 236798.36895809975,
  "spatialReference": {
   "wkid": 31256,
   "latestWkid": 31256
  }
 },
 "initialExtent": {
  "xmin": -93381.72885936935,
  "ymin": 186650.68459279195,
  "xmax": -41732.017206762,
  "ymax": 236798.36895809975,
  "spatialReference": {
   "wkid": 31256,
   "latestWkid": 31256
  }
 },
 "fullExtent": {
  "xmin": -93381.72885936935,
  "ymin": 186650.68459279195,
  "xmax": -41732.017206762,
  "ymax": 236798.36895809975,
  "spatialReference": {
   "wkid": 31256,
   "latestWkid": 31256
  }
 },
 "sortableFields": "MinPS,MaxPS,LowPS,HighPS,CenterX,CenterY,ZOrder,Shape_Length,Shape_Area,DisplayID",
 "bandCount": 1,
 "pixelType": "S32",
 "minValues": [
  0.125
 ],
 "maxValues": [
  63.875
 ],
 "meanValues": [
  7.519840278037711
 ],
 "stdvValues": [
  6.750749251562151
 ],
 "hasMultidimensions": false,
 "pixelSizeX": 20.027030497327395,
 "pixelSizeY": 20.027030497327395,
 "meanPixelSize": 20.027030497327395,
 "datasetFormat": "AMD",
 "uncompressedSize": 25831264,
 "blockWidth": 2048,
 "blockHeight": 256,
 "compressionType": "None",
 "bandNames": [
  "Band_1"
 ],
 "allowCopy": true,
 "allowAnalysis": true,
 "itemAccess": false,
 "inspectionCapabilities": "",
 "minPixelSize": 0,
 "maxPixelSize": 0,
 "copyrightText": "© Magistrat Graz - Kein Rechtsanspruch aus der Karte ableitbar",
 "serviceDataType": "esriImageServiceDataTypeGeneric",
 "serviceSourceType": "esriImageServiceSourceTypeMosaicDataset",
 "objectIdField": "OBJECTID",
 "fields": [
  {
   "name": "OBJECTID",
   "type": "esriFieldTypeOID",
   "alias": "OBJECTID",
   "domain": null
  },
  {
   "name": "Shape",
   "type": "esriFieldTypeGeometry",
   "alias": "Shape",
   "domain": null
  },
  {
   "name": "Name",
   "type": "esriFieldTypeString",
   "alias": "Name",
   "domain": null,
   "length": 200
  },
  {
   "name": "MinPS",
   "type": "esriFieldTypeDouble",
   "alias": "MinPS",
   "domain": null
  },
  {
   "name": "MaxPS",
   "type": "esriFieldTypeDouble",
   "alias": "MaxPS",
   "domain": null
  },
  {
   "name": "LowPS",
   "type": "esriFieldTypeDouble",
   "alias": "LowPS",
   "domain": null
  },
  {
   "name": "HighPS",
   "type": "esriFieldTypeDouble",
   "alias": "HighPS",
   "domain": null
  },
  {
   "name": "Category",
   "type": "esriFieldTypeInteger",
   "alias": "Category",
   "domain": {
    "type": "codedValue",
    "name": "MosaicCatalogItemCategoryDomain",
    "description": "Catalog item categories.",
    "codedValues": [
     {
      "name": "Unknown",
      "code": 0
     },
     {
      "name": "Primary",
      "code": 1
     },
     {
      "name": "Overview",
      "code": 2
     },
     {
      "name": "Unprocessed Overview",
      "code": 3
     },
     {
      "name": "Partial Overview",
      "code": 4
     },
     {
      "name": "Inactive",
      "code": 5
     },
     {
      "name": "Uploaded",
      "code": 253
     },
     {
      "name": "Incomplete",
      "code": 254
     },
     {
      "name": "Custom",
      "code": 255
     }
    ],
    "mergePolicy": "esriMPTDefaultValue",
    "splitPolicy": "esriSPTDefaultValue"
   }
  },
  {
   "name": "Tag",
   "type": "esriFieldTypeString",
   "alias": "Tag",
   "domain": null,
   "length": 100
  },
  {
   "name": "GroupName",
   "type": "esriFieldTypeString",
   "alias": "GroupName",
   "domain": null,
   "length": 100
  },
  {
   "name": "ProductName",
   "type": "esriFieldTypeString",
   "alias": "ProductName",
   "domain": null,
   "length": 100
  },
  {
   "name": "CenterX",
   "type": "esriFieldTypeDouble",
   "alias": "CenterX",
   "domain": null
  },
  {
   "name": "CenterY",
   "type": "esriFieldTypeDouble",
   "alias": "CenterY",
   "domain": null
  },
  {
   "name": "ZOrder",
   "type": "esriFieldTypeInteger",
   "alias": "ZOrder",
   "domain": null
  },
  {
   "name": "Shape_Length",
   "type": "esriFieldTypeDouble",
   "alias": "Shape_Length",
   "domain": null
  },
  {
   "name": "Shape_Area",
   "type": "esriFieldTypeDouble",
   "alias": "Shape_Area",
   "domain": null
  },
  {
   "name": "DisplaySet",
   "type": "esriFieldTypeString",
   "alias": "DisplaySet",
   "domain": null,
   "length": 255
  },
  {
   "name": "DisplayID",
   "type": "esriFieldTypeInteger",
   "alias": "DisplayID",
   "domain": null
  }
 ],
 "capabilities": "Catalog,Mensuration,Image,Metadata",
 "defaultMosaicMethod": "Northwest",
 "allowedMosaicMethods": "NorthWest,Center,LockRaster,ByAttribute,Nadir,Viewpoint,Seamline,None",
 "sortField": "",
 "sortValue": null,
 "sortAscending": true,
 "mosaicOperator": "First",
 "maxDownloadSizeLimit": 2048,
 "defaultCompressionQuality": 75,
 "defaultResamplingMethod": "Bilinear",
 "maxImageHeight": 4100,
 "maxImageWidth": 15000,
 "maxRecordCount": 1000,
 "maxDownloadImageCount": 20,
 "maxMosaicImageCount": 20,
 "allowRasterFunction": true,
 "rasterFunctionInfos": [
  {
   "name": "None",
   "description": "Make a Raster or Raster Dataset into a Function Raster Dataset.",
   "help": ""
  },
  {
   "name": "Hx_0k5h_m_20m_epsg31256_Int",
   "description": "Hx_0k5h_m_20m_epsg31256_Int",
   "help": ""
  },
  {
   "name": "Hx_0k5h_m_20m_epsg31256_Int_Rasterinfo",
   "description": "Hx_0k5h_m_20m_epsg31256_Int_Rasterinfo",
   "help": ""
  },
  {
   "name": "Hx_1h_m_20m_epsg31256_Int",
   "description": "Hx_1h_m_20m_epsg31256_Int",
   "help": ""
  },
  {
   "name": "Hx_1h_m_20m_epsg31256_Int_Rasterinfo",
   "description": "Hx_1h_m_20m_epsg31256_Int_Rasterinfo",
   "help": ""
  },
  {
   "name": "Hx_2h_m_20m_epsg31256_Int",
   "description": "Hx_2h_m_20m_epsg31256_Int",
   "help": ""
  },
  {
   "name": "Hx_2h_m_20m_epsg31256_Int_Rasterinfo",
   "description": "Hx_2h_m_20m_epsg31256_Int_Rasterinfo",
   "help": ""
  },
  {
   "name": "Hx_3h_m_20m_epsg31256_Int",
   "description": "Hx_3h_m_20m_epsg31256_Int",
   "help": ""
  },
  {
   "name": "Hx_3h_m_20m_epsg31256_Int_Rasterinfo",
   "description": "Hx_3h_m_20m_epsg31256_Int_Rasterinfo",
   "help": ""
  },
  {
   "name": "Hx_4h_m_20m_epsg31256_Int",
   "description": "Hx_4h_m_20m_epsg31256_Int",
   "help": ""
  },
  {
   "name": "Hx_4h_m_20m_epsg31256_Int_Rasterinfo",
   "description": "Hx_4h_m_20m_epsg31256_Int_Rasterinfo",
   "help": ""
  }
 ],
 "rasterTypeInfos": [
  {
   "name": "Raster Dataset",
   "description": "Supports all ArcGIS Raster Datasets",
   "help": ""
  }
 ],
 "mensurationCapabilities": "Basic",
 "hasHistograms": true,
 "hasColormap": false,
 "hasRasterAttributeTable": false,
 "minScale": 0,
 "maxScale": 0,
 "exportTilesAllowed": false,
 "supportsStatistics": true,
 "supportsAdvancedQueries": true,
 "editFieldsInfo": null,
 "ownershipBasedAccessControlForRasters": null,
 "allowComputeTiePoints": false,
 "useStandardizedQueries": true,
 "advancedQueryCapabilities": {
  "useStandardizedQueries": true,
  "supportsStatistics": true,
  "supportsOrderBy": true,
  "supportsDistinct": true,
  "supportsPagination": true
 },
 "spatialReference": {
  "wkid": 31256,
  "latestWkid": 31256
 },
 "resampling": false
}
