{
 "currentVersion": 11.5,
 "serviceDescription": "ORTHOPHOTO_2024_512",
 "serviceItemId": "8e00165cd62746359b8eb194ee600683",
 "name": "ORTHOPHOTO_2024_512",
 "description": "",
 "extent": {
  "xmin": -77500.01263775489,
  "ymin": 205000.014430089,
  "xmax": -59375.012637754895,
  "ymax": 228000.014430089,
  "spatialReference": {
   "wkt2": "PROJCRS[\"MGI_Austria_GK_East_Zone\",BASEGEOGCRS[\"GCS_MGI\",DATUM[\"D_MGI\",ELLIPSOID[\"Bessel_1841\",6377397.155,299.1528128,LENGTHUNIT[\"Meter\",1.0]]],PRIMEM[\"Greenwich\",0.0,ANGLEUNIT[\"Degree\",0.0174532925199433]],CS[ellipsoidal,2],AXIS[\"Latitude (lat)\",north,ORDER[1]],AXIS[\"Longitude (lon)\",east,ORDER[2]],ANGLEUNIT[\"Degree\",0.0174532925199433]],CONVERSION[\"Transverse_Mercator\",METHOD[\"Transverse_Mercator\"],PARAMETER[\"false_easting\",0.0,LENGTHUNIT[\"Meter\",1.0]],PARAMETER[\"false_northing\",-5000000.0,LENGTHUNIT[\"Meter\",1.0]],PARAMETER[\"central_meridian\",16.33333333333334,ANGLEUNIT[\"Degree\",0.0174532925199433]],PARAMETER[\"scale_factor\",1.0,SCALEUNIT[\"Unity\",1.0]],PARAMETER[\"latitude_of_origin\",0.0,ANGLEUNIT[\"Degree\",0.0174532925199433]]],CS[Cartesian,2],AXIS[\"Easting (X)\",east,ORDER[1]],AXIS[\"Northing (Y)\",north,ORDER[2]],LENGTHUNIT[\"Meter\",1.0]]",
   "wkt": "PROJCS[\"MGI_Austria_GK_East_Zone\",GEOGCS[\"GCS_MGI\",DATUM[\"D_MGI\",SPHEROID[\"Bessel_1841\",6377397.155,299.1528128]],PRIMEM[\"Greenwich\",0.0],UNIT[\"Degree\",0.0174532925199433]],PROJECTION[\"Transverse_Mercator\"],PARAMETER[\"false_easting\",0.0],PARAMETER[\"false_northing\",-5000000.0],PARAMETER[\"central_meridian\",16.33333333333334],PARAMETER[\"scale_factor\",1.0],PARAMETER[\"latitude_of_origin\",0.0],UNIT[\"Meter\",1.0]]"
  }
 },
 "initialExtent": {
  "xmin": -77500.01263775489,
  "ymin": 205000.014430089,
  "xmax": -59375.012637754895,
  "ymax": 228000.014430089,
  "spatialReference": {
   "wkt2": "PROJCRS[\"MGI_Austria_GK_East_Zone\",BASEGEOGCRS[\"GCS_MGI\",DATUM[\"D_MGI\",ELLIPSOID[\"Bessel_1841\",6377397.155,299.1528128,LENGTHUNIT[\"Meter\",1.0]]],PRIMEM[\"Greenwich\",0.0,ANGLEUNIT[\"Degree\",0.0174532925199433]],CS[ellipsoidal,2],AXIS[\"Latitude (lat)\",north,ORDER[1]],AXIS[\"Longitude (lon)\",east,ORDER[2]],ANGLEUNIT[\"Degree\",0.0174532925199433]],CONVERSION[\"Transverse_Mercator\",METHOD[\"Transverse_Mercator\"],PARAMETER[\"false_easting\",0.0,LENGTHUNIT[\"Meter\",1.0]],PARAMETER[\"false_northing\",-5000000.0,LENGTHUNIT[\"Meter\",1.0]],PARAMETER[\"central_meridian\",16.33333333333334,ANGLEUNIT[\"Degree\",0.0174532925199433]],PARAMETER[\"scale_factor\",1.0,SCALEUNIT[\"Unity\",1.0]],PARAMETER[\"latitude_of_origin\",0.0,ANGLEUNIT[\"Degree\",0.0174532925199433]]],CS[Cartesian,2],AXIS[\"Easting (X)\",east,ORDER[1]],AXIS[\"Northing (Y)\",north,ORDER[2]],LENGTHUNIT[\"Meter\",1.0]]",
   "wkt": "PROJCS[\"MGI_Austria_GK_East_Zone\",GEOGCS[\"GCS_MGI\",DATUM[\"D_MGI\",SPHEROID[\"Bessel_1841\",6377397.155,299.1528128]],PRIMEM[\"Greenwich\",0.0],UNIT[\"Degree\",0.0174532925199433]],PROJECTION[\"Transverse_Mercator\"],PARAMETER[\"false_easting\",0.0],PARAMETER[\"false_northing\",-5000000.0],PARAMETER[\"central_meridian\",16.33333333333334],PARAMETER[\"scale_factor\",1.0],PARAMETER[\"latitude_of_origin\",0.0],UNIT[\"Meter\",1.0]]"
  }
 },
 "fullExtent": {
  "xmin": -77500.01263775489,
  "ymin": 205000.014430089,
  "xmax": -59375.012637754895,
  "ymax": 228000.014430089,
  "spatialReference": {
   "wkt2": "PROJCRS[\"MGI_Austria_GK_East_Zone\",BASEGEOGCRS[\"GCS_MGI\",DATUM[\"D_MGI\",ELLIPSOID[\"Bessel_1841\",6377397.155,299.1528128,LENGTHUNIT[\"Meter\",1.0]]],PRIMEM[\"Greenwich\",0.0,ANGLEUNIT[\"Degree\",0.0174532925199433]],CS[ellipsoidal,2],AXIS[\"Latitude (lat)\",north,ORDER[1]],AXIS[\"Longitude (lon)\",east,ORDER[2]],ANGLEUNIT[\"Degree\",0.0174532925199433]],CONVERSION[\"Transverse_Mercator\",METHOD[\"Transverse_Mercator\"],PARAMETER[\"false_easting\",0.0,LENGTHUNIT[\"Meter\",1.0]],PARAMETER[\"false_northing\",-5000000.0,LENGTHUNIT[\"Meter\",1.0]],PARAMETER[\"central_meridian\",16.33333333333334,ANGLEUNIT[\"Degree\",0.0174532925199433]],PARAMETER[\"scale_factor\",1.0,SCALEUNIT[\"Unity\",1.0]],PARAMETER[\"latitude_of_origin\",0.0,ANGLEUNIT[\"Degree\",0.0174532925199433]]],CS[Cartesian,2],AXIS[\"Easting (X)\",east,ORDER[1]],AXIS[\"Northing (Y)\",north,ORDER[2]],LENGTHUNIT[\"Meter\",1.0]]",
   "wkt": "PROJCS[\"MGI_Austria_GK_East_Zone\",GEOGCS[\"GCS_MGI\",DATUM[\"D_MGI\",SPHEROID[\"Bessel_1841\",6377397.155,299.1528128]],PRIMEM[\"Greenwich\",0.0],UNIT[\"Degree\",0.0174532925199433]],PROJECTION[\"Transverse_Mercator\"],PARAMETER[\"false_easting\",0.0],PARAMETER[\"false_northing\",-5000000.0],PARAMETER[\"central_meridian\",16.33333333333334],PARAMETER[\"scale_factor\",1.0],PARAMETER[\"latitude_of_origin\",0.0],UNIT[\"Meter\",1.0]]"
  }
 },
 "sortableFields": "",
 "bandCount": 3,
 "pixelType": "U8",
 "minValues": [],
 "maxValues": [],
 "meanValues": [],
 "stdvValues": [],
 "serviceProperties": "Center<\/MosaicMethod>First<\/MosaicOperator>true<\/SortAscending><\/LockImageID><\/TileOrderField>0<\/TileOrderBase>0,000000<\/AvgImageSpacingX>0,000000<\/AvgImageSpacingY>0.0<\/ViewPointX>0.0<\/ViewPointY>0.0<\/ViewPointDefShiftX>0.0<\/ViewPointDefShiftY>None<\/CompressionMethod>75<\/CompressionQuality>0,010000<\/CompressionTolerance>Bilinear<\/SamplingMethod><\/ImageServiceProperties><\/ImageServer>",
 "allowedFields": "",
 "hasMultidimensions": false,
 "pixelSizeX": 0.04999999999999998,
 "pixelSizeY": 0.05,
 "meanPixelSize": 0.04999999999999999,
 "datasetFormat": "SDR",
 "uncompressedSize": 500250000000,
 "blockWidth": 128,
 "blockHeight": 128,
 "compressionType": "LZ77",
 "bandNames": [
  "Band_1",
  "Band_2",
  "Band_3"
 ],
 "allowCopy": true,
 "allowAnalysis": true,
 "itemAccess": false,
 "inspectionCapabilities": "",
 "minPixelSize": 0.5046536684056442,
 "maxPixelSize": 66145.9656252646,
 "copyrightText": "",
 "serviceDataType": "esriImageServiceDataTypeRGB",
 "serviceSourceType": "esriImageServiceSourceTypeDataset",
 "objectIdField": "",
 "fields": [],
 "capabilities": "Mensuration,Image,Metadata",
 "defaultMosaicMethod": "Center",
 "allowedMosaicMethods": "",
 "sortField": "",
 "sortValue": null,
 "sortAscending": true,
 "mosaicOperator": "First",
 "defaultCompressionQuality": 75,
 "defaultResamplingMethod": "Bilinear",
 "maxImageHeight": 4100,
 "maxImageWidth": 15000,
 "singleFusedMapCache": true,
 "tileInfo": {
  "rows": 512,
  "cols": 512,
  "dpi": 96,
  "format": "PNG",
  "compressionQuality": 0,
  "origin": {
   "x": -5622500,
   "y": 5001000
  },
  "spatialReference": {
   "wkt2": "PROJCRS[\"MGI_Austria_GK_East_Zone\",BASEGEOGCRS[\"GCS_MGI\",DATUM[\"D_MGI\",ELLIPSOID[\"Bessel_1841\",6377397.155,299.1528128,LENGTHUNIT[\"Meter\",1.0]]],PRIMEM[\"Greenwich\",0.0,ANGLEUNIT[\"Degree\",0.0174532925199433]],CS[ellipsoidal,2],AXIS[\"Latitude (lat)\",north,ORDER[1]],AXIS[\"Longitude (lon)\",east,ORDER[2]],ANGLEUNIT[\"Degree\",0.0174532925199433]],CONVERSION[\"Transverse_Mercator\",METHOD[\"Transverse_Mercator\"],PARAMETER[\"false_easting\",0.0,LENGTHUNIT[\"Meter\",1.0]],PARAMETER[\"false_northing\",-5000000.0,LENGTHUNIT[\"Meter\",1.0]],PARAMETER[\"central_meridian\",16.33333333333334,ANGLEUNIT[\"Degree\",0.0174532925199433]],PARAMETER[\"scale_factor\",1.0,SCALEUNIT[\"Unity\",1.0]],PARAMETER[\"latitude_of_origin\",0.0,ANGLEUNIT[\"Degree\",0.0174532925199433]]],CS[Cartesian,2],AXIS[\"Easting (X)\",east,ORDER[1]],AXIS[\"Northing (Y)\",north,ORDER[2]],LENGTHUNIT[\"Meter\",1.0]]",
   "wkt": "PROJCS[\"MGI_Austria_GK_East_Zone\",GEOGCS[\"GCS_MGI\",DATUM[\"D_MGI\",SPHEROID[\"Bessel_1841\",6377397.155,299.1528128]],PRIMEM[\"Greenwich\",0.0],UNIT[\"Degree\",0.0174532925199433]],PROJECTION[\"Transverse_Mercator\"],PARAMETER[\"false_easting\",0.0],PARAMETER[\"false_northing\",-5000000.0],PARAMETER[\"central_meridian\",16.33333333333334],PARAMETER[\"scale_factor\",1.0],PARAMETER[\"latitude_of_origin\",0.0],UNIT[\"Meter\",1.0]]"
  },
  "lods": [
   {
    "level": 0,
    "resolution": 66145.9656252646,
    "scale": 250000000
   },
   {
    "level": 1,
    "resolution": 33072.9828126323,
    "scale": 125000000
   },
   {
    "level": 2,
    "resolution": 16536.49140631615,
    "scale": 62500000
   },
   {
    "level": 3,
    "resolution": 8268.245703158074,
    "scale": 31250000
   },
   {
    "level": 4,
    "resolution": 4134.122851579037,
    "scale": 15625000
   },
   {
    "level": 5,
    "resolution": 2067.0614257895186,
    "scale": 7812500
   },
   {
    "level": 6,
    "resolution": 1033.5307128947593,
    "scale": 3906250
   },
   {
    "level": 7,
    "resolution": 516.7653564473796,
    "scale": 1953125
   },
   {
    "level": 8,
    "resolution": 258.3826782236898,
    "scale": 976562.5
   },
   {
    "level": 9,
    "resolution": 129.1913391118449,
    "scale": 488281.25
   },
   {
    "level": 10,
    "resolution": 64.59566955592246,
    "scale": 244140.625
   },
   {
    "level": 11,
    "resolution": 32.29783477796123,
    "scale": 122070.3125
   },
   {
    "level": 12,
    "resolution": 16.148917388980614,
    "scale": 61035.15625
   },
   {
    "level": 13,
    "resolution": 8.074458694490307,
    "scale": 30517.578125
   },
   {
    "level": 14,
    "resolution": 4.0372293472451535,
    "scale": 15258.7890625
   },
   {
    "level": 15,
    "resolution": 2.0186146736225767,
    "scale": 7629.39453125
   },
   {
    "level": 16,
    "resolution": 1.0093073368112884,
    "scale": 3814.697265625
   },
   {
    "level": 17,
    "resolution": 0.5046536684056442,
    "scale": 1907.3486328125
   },
   {
    "level": 18,
    "resolution": 0.2523268342028221,
    "scale": 953.67431640625
   },
   {
    "level": 19,
    "resolution": 0.12616341710141105,
    "scale": 476.837158203125
   },
   {
    "level": 20,
    "resolution": 0.06308170855070552,
    "scale": 238.4185791015625
   },
   {
    "level": 21,
    "resolution": 0.03154085427535276,
    "scale": 119.20928955078125
   }
  ]
 },
 "storageInfo": {
  "storageFormat": "esriMapCacheStorageModeCompactV2",
  "packetSize": 128
 },
 "cacheType": "Map",
 "allowRasterFunction": true,
 "rasterFunctionInfos": [
  {
   "name": "None",
   "description": "",
   "help": ""
  }
 ],
 "rasterTypeInfos": [
  {
   "name": "Raster Dataset",
   "description": "Supports all ArcGIS Raster Datasets",
   "help": ""
  }
 ],
 "mensurationCapabilities": "Basic",
 "hasHistograms": false,
 "hasColormap": false,
 "hasRasterAttributeTable": false,
 "minScale": 250000000,
 "maxScale": 1907.3486328125,
 "minLOD": 0,
 "maxLOD": 17,
 "exportTilesAllowed": false,
 "supportsStatistics": false,
 "supportsAdvancedQueries": false,
 "editFieldsInfo": null,
 "ownershipBasedAccessControlForRasters": null,
 "allowComputeTiePoints": false,
 "useStandardizedQueries": true,
 "advancedQueryCapabilities": {
  "useStandardizedQueries": true,
  "supportsStatistics": false,
  "supportsOrderBy": false,
  "supportsDistinct": false,
  "supportsPagination": false
 },
 "spatialReference": {
  "wkt2": "PROJCRS[\"MGI_Austria_GK_East_Zone\",BASEGEOGCRS[\"GCS_MGI\",DATUM[\"D_MGI\",ELLIPSOID[\"Bessel_1841\",6377397.155,299.1528128,LENGTHUNIT[\"Meter\",1.0]]],PRIMEM[\"Greenwich\",0.0,ANGLEUNIT[\"Degree\",0.0174532925199433]],CS[ellipsoidal,2],AXIS[\"Latitude (lat)\",north,ORDER[1]],AXIS[\"Longitude (lon)\",east,ORDER[2]],ANGLEUNIT[\"Degree\",0.0174532925199433]],CONVERSION[\"Transverse_Mercator\",METHOD[\"Transverse_Mercator\"],PARAMETER[\"false_easting\",0.0,LENGTHUNIT[\"Meter\",1.0]],PARAMETER[\"false_northing\",-5000000.0,LENGTHUNIT[\"Meter\",1.0]],PARAMETER[\"central_meridian\",16.33333333333334,ANGLEUNIT[\"Degree\",0.0174532925199433]],PARAMETER[\"scale_factor\",1.0,SCALEUNIT[\"Unity\",1.0]],PARAMETER[\"latitude_of_origin\",0.0,ANGLEUNIT[\"Degree\",0.0174532925199433]]],CS[Cartesian,2],AXIS[\"Easting (X)\",east,ORDER[1]],AXIS[\"Northing (Y)\",north,ORDER[2]],LENGTHUNIT[\"Meter\",1.0]]",
  "wkt": "PROJCS[\"MGI_Austria_GK_East_Zone\",GEOGCS[\"GCS_MGI\",DATUM[\"D_MGI\",SPHEROID[\"Bessel_1841\",6377397.155,299.1528128]],PRIMEM[\"Greenwich\",0.0],UNIT[\"Degree\",0.0174532925199433]],PROJECTION[\"Transverse_Mercator\"],PARAMETER[\"false_easting\",0.0],PARAMETER[\"false_northing\",-5000000.0],PARAMETER[\"central_meridian\",16.33333333333334],PARAMETER[\"scale_factor\",1.0],PARAMETER[\"latitude_of_origin\",0.0],UNIT[\"Meter\",1.0]]"
 },
 "resampling": false
}
